BEGIN:VCALENDAR
TZID:Europe/Amsterdam
VERSION:2.0
PRODID:-//hacksw/handcal//NONSGML v1.0//EN
CALSCALE:GREGORIAN
BEGIN:VEVENT
UID:2747
DTSTAMP:20260422T134545
DTSTART:20260923T093000
DTEND:20261028T173000
SUMMARY:Leergang module 1 - Basismodule
END:VEVENT
END:VCALENDAR