BEGIN:VCALENDAR
TZID:Europe/Amsterdam
VERSION:2.0
PRODID:-//hacksw/handcal//NONSGML v1.0//EN
CALSCALE:GREGORIAN
BEGIN:VEVENT
UID:2759
DTSTAMP:20260422T134545
DTSTART:20260923T093000
DTEND:20270602T173000
SUMMARY:Leergang Ontwikkeling Mens en Organisatie - compleet
END:VEVENT
END:VCALENDAR