BEGIN:VCALENDAR
TZID:Europe/Amsterdam
VERSION:2.0
PRODID:-//hacksw/handcal//NONSGML v1.0//EN
CALSCALE:GREGORIAN
BEGIN:VEVENT
UID:3573
DTSTAMP:20260422T134336
DTSTART:20260512T093000
DTEND:20260512T173000
SUMMARY:Leergang module 5 - Workshops en trainen
END:VEVENT
END:VCALENDAR