BEGIN:VCALENDAR
TZID:Europe/Amsterdam
VERSION:2.0
PRODID:-//hacksw/handcal//NONSGML v1.0//EN
CALSCALE:GREGORIAN
BEGIN:VEVENT
UID:3707
DTSTAMP:20260422T134358
DTSTART:20260604T100000
DTEND:20260606T163000
SUMMARY:Impact 2
END:VEVENT
END:VCALENDAR