BEGIN:VCALENDAR
TZID:Europe/Amsterdam
VERSION:2.0
PRODID:-//hacksw/handcal//NONSGML v1.0//EN
CALSCALE:GREGORIAN
BEGIN:VEVENT
UID:3710
DTSTAMP:20260422T134357
DTSTART:20261119T100000
DTEND:20261121T163000
SUMMARY:Impact 3
END:VEVENT
END:VCALENDAR