BEGIN:VCALENDAR
TZID:Europe/Amsterdam
VERSION:2.0
PRODID:-//hacksw/handcal//NONSGML v1.0//EN
CALSCALE:GREGORIAN
BEGIN:VEVENT
UID:3968
DTSTAMP:20260422T134342
DTSTART:20261111T093000
DTEND:20261111T163000
SUMMARY:Masterclass Lencioni - Succesvolle teams
END:VEVENT
END:VCALENDAR