BEGIN:VCALENDAR
TZID:Europe/Amsterdam
VERSION:2.0
PRODID:-//hacksw/handcal//NONSGML v1.0//EN
CALSCALE:GREGORIAN
BEGIN:VEVENT
UID:3969
DTSTAMP:20260422T150517
DTSTART:20261125T093000
DTEND:20261125T163000
SUMMARY:Masterclass eigenaarschap binnen teams
END:VEVENT
END:VCALENDAR