BEGIN:VCALENDAR
TZID:Europe/Amsterdam
VERSION:2.0
PRODID:-//hacksw/handcal//NONSGML v1.0//EN
CALSCALE:GREGORIAN
BEGIN:VEVENT
UID:4088
DTSTAMP:20260422T134509
DTSTART:20260507T193000
DTEND:20260507T210000
SUMMARY:Informatieavond Impact 1 training (online)
END:VEVENT
END:VCALENDAR