BEGIN:VCALENDAR
TZID:Europe/Amsterdam
VERSION:2.0
PRODID:-//hacksw/handcal//NONSGML v1.0//EN
CALSCALE:GREGORIAN
BEGIN:VEVENT
UID:4089
DTSTAMP:20260422T134510
DTSTART:20260519T193000
DTEND:20260519T203000
SUMMARY:Informatieavond Leergang (online)
END:VEVENT
END:VCALENDAR