BEGIN:VCALENDAR
TZID:Europe/Amsterdam
VERSION:2.0
PRODID:-//hacksw/handcal//NONSGML v1.0//EN
CALSCALE:GREGORIAN
BEGIN:VEVENT
UID:4092
DTSTAMP:20260422T134342
DTSTART:20260902T193000
DTEND:20260902T203000
SUMMARY:Informatieavond Impact 1 training (online)
END:VEVENT
END:VCALENDAR