BEGIN:VCALENDAR
TZID:Europe/Amsterdam
VERSION:2.0
PRODID:-//hacksw/handcal//NONSGML v1.0//EN
CALSCALE:GREGORIAN
BEGIN:VEVENT
UID:4095
DTSTAMP:20260422T134546
DTSTART:20261029T093000
DTEND:20261030T170000
SUMMARY:Coachen op het werk
END:VEVENT
END:VCALENDAR