BEGIN:VCALENDAR
TZID:Europe/Amsterdam
VERSION:2.0
PRODID:-//hacksw/handcal//NONSGML v1.0//EN
CALSCALE:GREGORIAN
BEGIN:VEVENT
UID:4096
DTSTAMP:20260422T134336
DTSTART:20261111T193000
DTEND:20261111T203000
SUMMARY:Informatieavond Impact 1 training (online)
END:VEVENT
END:VCALENDAR