BEGIN:VCALENDAR
TZID:Europe/Amsterdam
VERSION:2.0
PRODID:-//hacksw/handcal//NONSGML v1.0//EN
CALSCALE:GREGORIAN
BEGIN:VEVENT
UID:4098
DTSTAMP:20260422T134509
DTSTART:20270127T093000
DTEND:20270303T173000
SUMMARY:Leergang module 3 - Teamontwikkeling en coaching
END:VEVENT
END:VCALENDAR