BEGIN:VCALENDAR
TZID:Europe/Amsterdam
VERSION:2.0
PRODID:-//hacksw/handcal//NONSGML v1.0//EN
CALSCALE:GREGORIAN
BEGIN:VEVENT
UID:4099
DTSTAMP:20260422T134357
DTSTART:20270324T093000
DTEND:20270414T173000
SUMMARY:Leergang module 4 - Cultuur en leiderschapsontwikkeling
END:VEVENT
END:VCALENDAR