BEGIN:VCALENDAR
TZID:Europe/Amsterdam
VERSION:2.0
PRODID:-//hacksw/handcal//NONSGML v1.0//EN
CALSCALE:GREGORIAN
BEGIN:VEVENT
UID:4190
DTSTAMP:20260422T134236
DTSTART:20261102T093000
DTEND:20261102T170000
SUMMARY:Effectief communiceren
END:VEVENT
END:VCALENDAR