BEGIN:VCALENDAR
TZID:Europe/Amsterdam
VERSION:2.0
PRODID:-//hacksw/handcal//NONSGML v1.0//EN
CALSCALE:GREGORIAN
BEGIN:VEVENT
UID:4332
DTSTAMP:20260422T134028
DTSTART:20261012T170000
DTEND:20261017T100000
SUMMARY:Stilstaan om Vooruit te Gaan
END:VEVENT
END:VCALENDAR